BEGIN:VCALENDAR
VERSION:2.0
PRODID:-//Pastry.bg
CALSCALE:GREGORIAN
METHOD:PUBLISH
X-WR-CALNAME:Pastry.bg
X-ORIGINAL-URL:https://pastry.bg/produkt/restorantski-sladoledi-sorbeta-i-hibridi/
X-WR-CALDESC:Мастър Клас &#8211; Ресторантски сладоледи, сорбета и хибриди
BEGIN:VEVENT
DTSTART:20190529T090000
DTEND:20190529T160000
SUMMARY:Мастър Клас &#8211; Ресторантски сладоледи, сорбета и хибриди
DESCRIPTION:Днес, в крак с тенденциите ни се налага все повече да олекотяваме десертите – по-малко мазнини, по-малко захари, алергени, веган и т.н., оставайки верни на оригиналния вкус, разбира се.

&nbsp;

В обучението „Ресторантски сладоледи, сорбета и хибриди“ с шеф Георги Бойковски и шеф Ради Стамболов ще застъпим тема, още по-сложна – сладоледи във висок клас ресторанти.
LOCATION:
END:VEVENT
END:VCALENDAR
