BEGIN:VCALENDAR
VERSION:2.0
PRODID:-//Pastry.bg
CALSCALE:GREGORIAN
METHOD:PUBLISH
X-WR-CALNAME:Pastry.bg
X-ORIGINAL-URL:https://pastry.bg/produkt/pastrychef2023/
X-WR-CALDESC:СЛАДКАР НА БЪЛГАРИЯ 2023
BEGIN:VEVENT
DTSTART:20231108T110000
DTEND:20231110T180000
SUMMARY:СЛАДКАР НА БЪЛГАРИЯ 2023
DESCRIPTION:<a class="pastry2023_subm" href="#fluentform_1">Кандидатствайте за участие</a>
LOCATION:бул. „Цариградско шосе“ 147, Sofia, Bulgaria
END:VEVENT
END:VCALENDAR
